BEGIN:VCALENDAR
VERSION:2.0
CALSCALE:GREGORIAN
METHOD:PUBLISH
PRODID://AORE//204397
BEGIN:VEVENT
DTSTAMP:20260421T064114
VTIMEZONE:America/Denver
DTSTART:20260114T190000Z
DTEND:20260114T200000Z
UID:204397
SUMMARY:The Power of the Outdoors:  Veteran Resilience and Family Connection
LOCATION:https://www.trailheadstrategiesgroup.com/webinar
DESCRIPTION:The Power of the Outdoors:  Veteran Resilience and Family Connection\n\n01/14/26 12:00 PM MST\n - 01/14/26 01:00 PM MST\Description:\nVeterans and military families face unique stressors tied to service, transition, and reintegration; often compounded by the loss of connection and community after leaving the military.\n\nIn this upcoming webinar, we’re bringing together national leaders from Outward Bound USA, Blue Star Families, and Huts for Vets to explore how nature-based programming strengthens family relationships, improves well-being, and builds long-term resilience. These organizations will share proven program models and strategies that use outdoor experiences to reduce stress, improve communication, and reinforce trust during periods of change.\n\nWe look forward to welcoming veterans, families, and aligned stakeholders committed to building stronger, more connected communities.\n\nTo ensure you receive the confirmation email and the meeting link, please complete your registration at the official webinar page here: https://www.trailheadstrategiesgroup.com/webinar.\Details:\nWebinar Details\nDate: 14 January 2026\nTime: 12:00 MST\nDuration: 1 Hour\nAudience: Veterans, military families, and partners supporting veteran-focused programs\n\Location:\nhttps://www.trailheadstrategiesgroup.com/webinar\n\n,
X-ALT-DESC;FMTTYPE=text/html:The Power of the Outdoors:  Veteran Resilience and Family Connection<br /><br />01/14/26 12:00 PM MST - 01/14/26 01:00 PM MST<br />Description:<br />Veterans and military families face unique stressors tied to service, transition, and reintegration; often compounded by the loss of connection and community after leaving the military.<br />
<br />
In this upcoming webinar, we&rsquo;re bringing together national leaders from <a data-test-app-aware-link="" href="https://www.linkedin.com/company/outward-bound-usa/" tabindex="0" target="_self">Outward Bound USA</a>, <a data-test-app-aware-link="" href="https://www.linkedin.com/company/bluestarfamilies/" tabindex="0" target="_self">Blue Star Families</a>, and <a data-test-app-aware-link="" href="https://www.linkedin.com/company/huts-for-vets/" tabindex="0" target="_self">Huts for Vets</a> to explore how nature-based programming strengthens family relationships, improves well-being, and builds long-term resilience. These organizations will share proven program models and strategies that use outdoor experiences to reduce stress, improve communication, and reinforce trust during periods of change.<br />
<br />
We look forward to welcoming veterans, families, and aligned stakeholders committed to building stronger, more connected communities.<br />
<br />
To ensure you receive the confirmation email and the meeting link, please complete your registration at the official webinar page here: <a data-test-app-aware-link="" href="https://www.trailheadstrategiesgroup.com/webinar" original_target="https://www.trailheadstrategiesgroup.com/webinar" tabindex="0" target="_self" wa-annotate="true" waprocessedanchor="true" waprocessedid="s5j71">https://www.trailheadstrategiesgroup.com/webinar</a>.<br />Details:<br /><p data-pm-slice="1 1 []"><strong>Webinar Details</strong><br />
<strong>Date:</strong> 14 January 2026<br />
<strong>Time:</strong> 12:00 MST<br />
<strong>Duration:</strong> 1 Hour<br />
<strong>Audience:</strong> Veterans, military families, and partners supporting veteran-focused programs</p>
<br />Location:<br />https://www.trailheadstrategiesgroup.com/webinar<br /><br />,  
PRIORITY:3
TRANSP:TRANSPARENT
BEGIN:VALARM
TRIGGER:-PT5M
ACTION:DISPLAY
DESCRIPTION:Reminder
END:VALARM
END:VEVENT
END:VCALENDAR
