BEGIN:VCALENDAR
VERSION:2.0
CALSCALE:GREGORIAN
METHOD:PUBLISH
PRODID://AORE//204921
BEGIN:VEVENT
DTSTAMP:20260421T064141
VTIMEZONE:America/New_York
DTSTART:20260127T170000Z
DTEND:20260127T180000Z
UID:204921
SUMMARY:EXPLORE Act One-Year Anniversary Webinar
LOCATION:
DESCRIPTION:EXPLORE Act One-Year Anniversary Webinar\n\n01/27/26 12:00 PM EST\n - 01/27/26 01:00 PM EST\Description:\nThe Outdoor Recreation Roundtable invites you to a one-year anniversary webinar marking the enactment of the EXPLORE Act. This virtual event will bring together federal agency leaders, policymakers, and the outdoor recreation industry to review first-year progress, highlight successes and challenges, and identify priorities to ensure the law fulfills its promise of expanding outdoor access for all Americans.\n\Details:\nOne year ago, the EXPLORE Act made history as the first-ever outdoor recreation–specific legislative package passed with unanimous bipartisan support. In the year since its enactment, implementation has begun delivering meaningful progress. To mark this milestone, the Outdoor Recreation Roundtable invites you to join a national webinar convening senior federal leaders, policymakers, and outdoor recreation stakeholders for a candid, forward-looking discussion on the state of EXPLORE Act implementation.\n\nThis timely conversation will feature updates from key land and water management agencies — including the U.S. Forest Service, National Park Service, Bureau of Land Management, Fish and Wildlife Service, and National Oceanic and Atmospheric Administration — alongside perspectives from policymakers and outdoor recreation leaders.\n\nWhat we’ll cover:\n\n\n	\n	First-year implementation progress and early successes\n	\n	\n	What’s working — and where gaps and barriers remain\n	\n	\n	Infrastructure and permitting modernization\n	\n	\n	Expanded access for biking, climbing, motorized recreation, veterans, and people with disabilities\n	\n	\n	Gateway communities, rural development, and the recreation economy\n	\n	\n	Data, digital tools, and cross-agency coordination\n	\n	\n	Priorities and actions for the next 12 months\n	\n\n
X-ALT-DESC;FMTTYPE=text/html:EXPLORE Act One-Year Anniversary Webinar<br /><br />01/27/26 12:00 PM EST - 01/27/26 01:00 PM EST<br />Description:<br /><p>The Outdoor Recreation Roundtable invites you to a one-year anniversary webinar marking the enactment of the EXPLORE Act. This virtual event will bring together federal agency leaders, policymakers, and the outdoor recreation industry to review first-year progress, highlight successes and challenges, and identify priorities to ensure the law fulfills its promise of expanding outdoor access for all Americans.</p>
<br />Details:<br /><p>One year ago, the EXPLORE Act made history as the first-ever outdoor recreation&ndash;specific legislative package passed with unanimous bipartisan support. In the year since its enactment, implementation has begun delivering meaningful progress. To mark this milestone, the Outdoor Recreation Roundtable invites you to join a&nbsp;<strong>national webinar</strong>&nbsp;convening senior federal leaders, policymakers, and outdoor recreation stakeholders for a candid, forward-looking discussion on the state of EXPLORE Act implementation.<br />
<br />
This timely conversation will feature updates from key land and water management agencies &mdash; including the&nbsp;<strong>U.S. Forest Service</strong>,&nbsp;<strong>National Park Service</strong>,&nbsp;<strong>Bureau of Land Management</strong>,&nbsp;<strong>Fish and Wildlife Service</strong>, and&nbsp;<strong>National Oceanic and Atmospheric Administration</strong>&nbsp;&mdash; alongside perspectives from policymakers and outdoor recreation leaders.</p>

<p><strong>What we&rsquo;ll cover:</strong></p>

<ul>
	<li>
	<p>First-year implementation progress and early successes</p>
	</li>
	<li>
	<p>What&rsquo;s working &mdash; and where gaps and barriers remain</p>
	</li>
	<li>
	<p>Infrastructure and permitting modernization</p>
	</li>
	<li>
	<p>Expanded access for biking, climbing, motorized recreation, veterans, and people with disabilities</p>
	</li>
	<li>
	<p>Gateway communities, rural development, and the recreation economy</p>
	</li>
	<li>
	<p>Data, digital tools, and cross-agency coordination</p>
	</li>
	<li>
	<p>Priorities and actions for the next 12 months</p>
	</li>
</ul>

PRIORITY:3
TRANSP:TRANSPARENT
BEGIN:VALARM
TRIGGER:-PT5M
ACTION:DISPLAY
DESCRIPTION:Reminder
END:VALARM
END:VEVENT
END:VCALENDAR
