BEGIN:VCALENDAR
VERSION:2.0
CALSCALE:GREGORIAN
METHOD:PUBLISH
PRODID://AORE//204922
BEGIN:VEVENT
DTSTAMP:20260421T081421
VTIMEZONE:America/New_York
DTSTART:20260130T180000Z
DTEND:20260130T200000Z
UID:204922
SUMMARY:The Secrets of High-Impact Outdoor Orientation Programs (OOPs) from The Outdoor Orientation Benchmarking Survey (TOOBS)
LOCATION:
DESCRIPTION:The Secrets of High-Impact Outdoor Orientation Programs (OOPs) from The Outdoor Orientation Benchmarking Survey (TOOBS)\n\n01/30/26 01:00 PM EST\n - 01/30/26 03:00 PM EST\Description:\n\nA Special Symposium Hosted by the Association for Experiential Education (AEE)\n\nHow do the most successful outdoor orientation programs foster a deep sense of belonging? What are they doing to build unparalleled trust in student leaders? Join us on January 30 for an exclusive, two-hour online symposium dedicated to dissecting the "why" behind this year's top-performing programs.\n\nHosted by Dr. Brent J. Bell from the University of New Hampshire, this workshop will invite presenters to go beyond the data. We have invited the schools that scored highest in the Outdoor Orientation Benchmarking Survey (OOBS) to share their specific strategies, philosophies, and "secret sauce" for success.\n\nWhat You’ll Gain:\n\n\n	The 2025 Data Reveal: Be among the first to see the comprehensive results of this year’s benchmarking survey.\n	The "Belonging" Blueprint: Hear from the school with the highest rates of student belonging.\n	The Trust Factor: Learn how the top-rated programs build high levels of trust in both leaders and peer groups.\n	Lasting Impact: Discover the methods used by the school with the highest rates of post-trip growth.\n	Updates of the OOP Census: Updates on the current state of the “outdoor orientation neighborhood” including the number of programs and trends.\n\n\n\Details:\nAORE members receive the discounted registration rate of $10 dollars when they use the code AORE15 at checkout! 
X-ALT-DESC;FMTTYPE=text/html:The Secrets of High-Impact Outdoor Orientation Programs (OOPs) from The Outdoor Orientation Benchmarking Survey (TOOBS)<br /><br />01/30/26 01:00 PM EST - 01/30/26 03:00 PM EST<br />Description:<br /><blockquote type="cite">
<p><strong>A Special Symposium Hosted by the Association for Experiential Education (AEE)</strong></p>

<p>How do the most successful outdoor orientation programs foster a deep sense of belonging? What are they doing to build unparalleled trust in student leaders? Join us on&nbsp;<strong>January 30</strong>&nbsp;for an exclusive, two-hour online symposium dedicated to dissecting the &quot;why&quot; behind this year's top-performing programs.</p>

<p>Hosted by&nbsp;<strong>Dr. Brent J. Bell</strong>&nbsp;from the University of New Hampshire, this workshop will invite presenters to go beyond the data. We have invited the schools that scored highest in the&nbsp;<strong>Outdoor Orientation Benchmarking Survey (OOBS)&nbsp;</strong>to share their specific strategies, philosophies, and &quot;secret sauce&quot; for success.</p>

<p><strong>What You&rsquo;ll Gain:</strong></p>

<ul type="disc">
	<li><strong>The 2025 Data Reveal:</strong>&nbsp;Be among the first to see the comprehensive results of this year&rsquo;s benchmarking survey.</li>
	<li><strong>The &quot;Belonging&quot; Blueprint:</strong>&nbsp;Hear from the school with the highest rates of student belonging.</li>
	<li><strong>The Trust Factor:</strong>&nbsp;Learn how the top-rated programs build high levels of trust in both leaders and peer groups.</li>
	<li><strong>Lasting Impact:</strong>&nbsp;Discover the methods used by the school with the highest rates of post-trip growth.</li>
	<li><strong>Updates of the OOP Census:</strong>&nbsp;Updates on the current state of the &ldquo;outdoor orientation neighborhood&rdquo; including the number of programs and trends.</li>
</ul>
</blockquote>
<br />Details:<br />AORE members receive the discounted registration rate of $10 dollars when they use the code <strong>AORE15</strong> at <a href="https://www.aee.org/events/the-secrets-of-high-impact-outdoor-orientation-programs-oops-from-the-outdoor-orientation-benchmarking-survey-toobs/register" target="_blank">checkout</a>!&nbsp;
PRIORITY:3
TRANSP:TRANSPARENT
BEGIN:VALARM
TRIGGER:-PT5M
ACTION:DISPLAY
DESCRIPTION:Reminder
END:VALARM
END:VEVENT
END:VCALENDAR
