BEGIN:VCALENDAR
VERSION:2.0
CALSCALE:GREGORIAN
METHOD:PUBLISH
PRODID://AORE//207353
BEGIN:VEVENT
DTSTAMP:20260421T070811
VTIMEZONE:America/Los_Angeles
DTSTART:20260210T190000Z
DTEND:20260210T200000Z
UID:207353
SUMMARY:Beyond Programming: Creating Lasting Memories
LOCATION:, 1624 Franklin St, Oakland, AL, 94612
DESCRIPTION:Beyond Programming: Creating Lasting Memories\n\n02/10/26 11:00 AM PST\n - 02/10/26 12:00 PM PST\Description:\nA great program helps participants feel safe, welcome, and engaged — and that doesn’t happen by accident. Join us for a virtual workshop where we’ll explore the equity principle of safety and well-being and how it shows up in real program design decisions, so you can intentionally foster belonging and joy in your work.\n\nOur Learning & Impact team will be leading this engaging and practical webinar exploring safety and well-being in programming. Participants will walk away with:\n\n\n	\n	Actionable ideas to foster mental, emotional, and physical well-being in outdoor spaces\n	\n	\n	Resources to assess and identify opportunities for increasing well-being in current programming\n	\n	\n	A deeper understanding of the various types of safety and well-being\n	\n\n\nWe’re excited to have you join us as we work to create spaces where everyone feels safe, welcome, and engaged.\n\Details:\nThis virtual webinar will take place on Tuesday, February 10th at 11A PT/2P ET on Zoom, and will be recorded. The webinar is free to attend. A donation is appreciated to continue providing free offerings for the community, but not required. Register now using this link!\Location:\n\n1624 Franklin St\nOakland, AL 94612
X-ALT-DESC;FMTTYPE=text/html:Beyond Programming: Creating Lasting Memories<br /><br />02/10/26 11:00 AM PST - 02/10/26 12:00 PM PST<br />Description:<br /><p dir="ltr"><font face="arial, sans-serif" size="2">A great program helps participants feel safe, welcome, and engaged &mdash; and that doesn&rsquo;t happen by accident.&nbsp;</font>Join us for a virtual workshop where&nbsp;we&rsquo;ll explore the equity principle of safety and well-being and how it shows up in real program design decisions, so you can intentionally foster belonging and joy in your work.</p>

<p dir="ltr"><font face="arial, sans-serif" size="2">Our Learning &amp; Impact team will be leading this engaging and practical webinar exploring safety and well-being in programming. Participants will walk away with:</font></p>

<ul dir="ltr">
	<li>
	<h3 dir="ltr" role="presentation"><font face="arial, sans-serif" size="2">Actionable ideas to foster mental, emotional, and physical well-being in outdoor spaces</font></h3>
	</li>
	<li>
	<h3 dir="ltr" role="presentation"><font face="arial, sans-serif" size="2">Resources to assess and identify opportunities for increasing well-being in current programming</font></h3>
	</li>
	<li>
	<h3 dir="ltr" role="presentation"><font face="arial, sans-serif" size="2">A deeper understanding of the various types of safety and well-being</font></h3>
	</li>
</ul>

<h3 dir="ltr"><font face="arial, sans-serif" size="2">We&rsquo;re excited to have you join us as we work to create spaces where everyone feels safe, welcome, and engaged.</font></h3>
<br />Details:<br /><font face="arial, sans-serif" size="2">This virtual webinar will take place on Tuesday, February 10th at 11A PT/2P ET on Zoom, and will be recorded. The webinar is free to attend. A&nbsp;</font>donation is appreciated to continue providing free offerings for the community, but not required. <a href="https://host.nxt.blackbaud.com/registration-form/?formId=44b1bf86-c640-497b-ad93-456846fd2542&amp;envId=p-GF3s2x0w1EigNB0MP78DTw&amp;zone=usa">Register now using this link</a>!<br />Location:<br /><br />1624 Franklin St<br />Oakland, AL 94612
PRIORITY:3
TRANSP:TRANSPARENT
BEGIN:VALARM
TRIGGER:-PT5M
ACTION:DISPLAY
DESCRIPTION:Reminder
END:VALARM
END:VEVENT
END:VCALENDAR
