BEGIN:VCALENDAR
VERSION:2.0
CALSCALE:GREGORIAN
METHOD:PUBLISH
PRODID://AORE//207396
BEGIN:VEVENT
DTSTAMP:20260421T044523
VTIMEZONE:America/Denver
DTSTART:20260311T180000Z
DTEND:20260311T190000Z
UID:207396
SUMMARY:Careers in the Outdoors: Translating Service into Sustainable Opportunity
LOCATION:https://www.trailheadstrategiesgroup.com/webinar-careers, AL
DESCRIPTION:Careers in the Outdoors: Translating Service into Sustainable Opportunity\n\n03/11/26 12:00 PM MST\n - 03/11/26 01:00 PM MST\Description:\nVeterans and military-connected professionals bring exceptional leadership, adaptability, and mission focus to the workforce; yet many face real challenges navigating career transitions, translating military experience, and finding purpose-driven roles after service. In this upcoming webinar, Trailhead Strategies Group is convening leaders and practitioners who work at the intersection of veteran employment, workforce development, and purpose driven careers. Together, we’ll explore practical strategies, proven pathways, and employer perspectives that help veterans successfully transition into meaningful outdoor industry civilian careers.\n\nThis conversation will highlight actionable insights for veterans, employers, nonprofit leaders, and community stakeholders committed to strengthening career outcomes, economic stability, and long-term resilience for the military-connected community. We look forward to welcoming those dedicated to building clearer pathways from service to civilian success\Details:\nWebinar Details\nDate: 11 March 2026\nTime: 12:00 MST\nDuration: 1 Hour\nAudience: Veterans, military families, and partners supporting veteran-focused programs\Location:\nhttps://www.trailheadstrategiesgroup.com/webinar-careers\n\n, AL
X-ALT-DESC;FMTTYPE=text/html:Careers in the Outdoors: Translating Service into Sustainable Opportunity<br /><br />03/11/26 12:00 PM MST - 03/11/26 01:00 PM MST<br />Description:<br />Veterans and military-connected professionals bring exceptional leadership, adaptability, and mission focus to the workforce; yet many face real challenges navigating career transitions, translating military experience, and finding purpose-driven roles after service.&nbsp;In this upcoming webinar, Trailhead Strategies Group is convening leaders and practitioners who work at the intersection of veteran employment, workforce development, and purpose driven careers. Together, we&rsquo;ll explore practical strategies, proven pathways, and employer perspectives that help veterans successfully transition into meaningful outdoor industry civilian careers.<br />
<br />
This conversation will highlight actionable insights for veterans, employers, nonprofit leaders, and community stakeholders committed to strengthening career outcomes, economic stability, and long-term resilience for the military-connected community.&nbsp;We look forward to welcoming those dedicated to building clearer pathways from service to civilian success<br />Details:<br /><strong>Webinar Details</strong><br />
<strong>Date:</strong>&nbsp;11 March 2026<br />
<strong>Time:</strong>&nbsp;12:00 MST<br />
<strong>Duration:</strong>&nbsp;1 Hour<br />
<strong>Audience:</strong>&nbsp;Veterans, military families, and partners supporting veteran-focused programs<br />Location:<br />https://www.trailheadstrategiesgroup.com/webinar-careers<br /><br />, AL 
PRIORITY:3
TRANSP:TRANSPARENT
BEGIN:VALARM
TRIGGER:-PT5M
ACTION:DISPLAY
DESCRIPTION:Reminder
END:VALARM
END:VEVENT
END:VCALENDAR
