BEGIN:VCALENDAR
VERSION:2.0
CALSCALE:GREGORIAN
METHOD:PUBLISH
PRODID://AORE//207499
BEGIN:VEVENT
DTSTAMP:20260421T070930
VTIMEZONE:America/Los_Angeles
DTSTART:20260203T180000Z
DTEND:20260203T200000Z
UID:207499
SUMMARY:Justice Outside Learning Labs
LOCATION:Online Meeting URL
DESCRIPTION:Justice Outside Learning Labs\n\n02/03/26 10:00 AM PST\n - 02/03/26 12:00 PM PST\Description:\nLearning Lab Peer Cohorts Info Flyer\nRegister Now!\nJustice Outside: Learning Lab Peer Cohorts\n\n\n\nYour equity journey can be a solitary one with a path that’s not always clear. At Justice Outside we can connect you with others on the same path and help you go further together with our Learning Lab Peer Cohorts offered quarterly throughout the year.\n\nLearning Lab Peer Cohorts are immersive, practice-based gatherings where outdoor and environmental leaders come together to build skills, exchange knowledge, and practice equity-centered approaches in real time. Such community driven exchanges of ideas and collaborative problem solving are key to the grassroots nature of our goals of environmental justice and a cornerstone of Justice Outside’s Power-Building initiatives.\n\nIf you are a program manager, director, or experienced professional in the justice sectors looking to move beyond conversation into real-time practice our labs are excellent opportunities to enhance your journey. These are not lectures, they are peer driven conversations that help participants strengthen connections to one another and between organizations to help further the advancement of equity in the outdoors.\n\nWhether you’re taking the next steps on your equity journey or deepening long-term commitments to inclusion in outdoor spaces, our Learning Labs are here to meet you where you are and guide you further on your journey. Register today!\n\Details:\nThe Justice Outside Learning Lab Peer Cohorts consist of two-hour sessions that occur once a month for a three month period.\n\nThe 2026 Cohort dates:\n\n\n\n\n	\n	Q1 Cohort (10 am-12 pm PT / 1p-3p ET): February 3, March 3, & April 7\n	\n	\n	Q2 Cohort (10 am-12 pm PT / 1p-3p ET): April 21, May 19, & June 16\n	\n	\n	Q3 Cohort (10 am-12 pm PT / 1p-3p ET): August 18, September 22, & October 20 \n	\n\n\nStandard registration for a Learning Lab Cohort is $500 with early bird registration available as low as $400. \n\Location:\nOnline Meeting URL\n\n,
X-ALT-DESC;FMTTYPE=text/html:Justice Outside Learning Labs<br /><br />02/03/26 10:00 AM PST - 02/03/26 12:00 PM PST<br />Description:<br /><a href="https://justiceoutside.org/wp-content/uploads/2025/11/LL-Flyer-Updated.pdf">Learning Lab Peer Cohorts Info Flyer</a><br />
<a href="https://host.nxt.blackbaud.com/registration-form/?formId=cd51dbdc-7367-45cd-a3a9-cbaae4640188&amp;envId=p-GF3s2x0w1EigNB0MP78DTw&amp;zone=usa">Register Now!</a>
<p dir="ltr"><strong id="docs-internal-guid-14662285-7fff-e5fc-d111-8a3bbb4c3866">Justice Outside: Learning Lab Peer Cohorts</strong></p>

<p dir="ltr"><meta charset="utf-8" /></p>

<p dir="ltr"><strong id="docs-internal-guid-52d9da9f-7fff-9de3-ec03-e2a6053d78ae">Your equity journey can be a solitary one with a path that&rsquo;s not always clear. At Justice Outside we can connect you with others on the same path and help you go further together with our Learning Lab Peer Cohorts offered quarterly throughout the year.<br />
<br />
Learning Lab Peer Cohorts are immersive, practice-based gatherings where outdoor and environmental leaders come together to build skills, exchange knowledge, and practice equity-centered approaches in real time. Such community driven exchanges of ideas and collaborative problem solving are key to the grassroots nature of our goals of environmental justice and a cornerstone of Justice Outside&rsquo;s Power-Building initiatives.</strong></p>

<p dir="ltr"><strong id="docs-internal-guid-52d9da9f-7fff-9de3-ec03-e2a6053d78ae">If you are a program manager, director, or experienced professional in the justice sectors looking to move beyond conversation into real-time practice our labs are excellent opportunities to enhance your journey. These are not lectures, they are peer driven conversations that help participants strengthen connections to one another and between organizations to help further the advancement of equity in the outdoors.</strong><br />
<br />
<meta charset="utf-8" /><strong id="docs-internal-guid-752bdf34-7fff-b792-bab3-d65becb7f65a">Whether you&rsquo;re taking the next steps on your equity journey or deepening long-term commitments to inclusion in outdoor spaces, our Learning Labs are here to meet you where you are and guide you further on your journey. Register today!</strong></p>
<br />Details:<br /><p dir="ltr"><strong id="docs-internal-guid-b3eb2b4f-7fff-8e55-29d8-ad1d2e9a36f0">The Justice Outside Learning Lab Peer Cohorts consist of two-hour sessions that occur once a month for a three month period.<br />
<br />
The 2026 Cohort dates:</strong></p>

<p dir="ltr"><meta charset="utf-8" /></p>

<ul>
	<li aria-level="1" dir="ltr">
	<p dir="ltr" role="presentation"><strong id="docs-internal-guid-b3eb2b4f-7fff-8e55-29d8-ad1d2e9a36f0">Q1 Cohort (10 am-12 pm PT / 1p-3p ET): February 3, March 3, &amp; April 7</strong></p>
	</li>
	<li aria-level="1" dir="ltr">
	<p dir="ltr" role="presentation"><strong id="docs-internal-guid-b3eb2b4f-7fff-8e55-29d8-ad1d2e9a36f0">Q2 Cohort (10 am-12 pm PT / 1p-3p ET): April 21, May 19, &amp; June 16</strong></p>
	</li>
	<li aria-level="1" dir="ltr">
	<p dir="ltr" role="presentation"><strong id="docs-internal-guid-b3eb2b4f-7fff-8e55-29d8-ad1d2e9a36f0">Q3 Cohort (10 am-12 pm PT / 1p-3p ET): August 18, September 22, &amp; October 20 </strong></p>
	</li>
</ul>

<p dir="ltr"><strong id="docs-internal-guid-b3eb2b4f-7fff-8e55-29d8-ad1d2e9a36f0">Standard registration for a Learning Lab Cohort is $500 with early bird registration available as low as $400.&nbsp;</strong></p>
<br />Location:<br />Online Meeting URL<br /><br />,  
PRIORITY:3
TRANSP:TRANSPARENT
BEGIN:VALARM
TRIGGER:-PT5M
ACTION:DISPLAY
DESCRIPTION:Reminder
END:VALARM
END:VEVENT
END:VCALENDAR
